BEGIN:VCALENDAR
VERSION:2.0
PRODID:-//Viva Lanzarote - ECPv6.10.3//NONSGML v1.0//EN
CALSCALE:GREGORIAN
METHOD:PUBLISH
X-ORIGINAL-URL:https://www.viva-lanzarote.com/en/
X-WR-CALDESC:Events for Viva Lanzarote
REFRESH-INTERVAL;VALUE=DURATION:PT1H
X-Robots-Tag:noindex
X-PUBLISHED-TTL:PT1H
BEGIN:VTIMEZONE
TZID:Atlantic/Canary
BEGIN:DAYLIGHT
TZOFFSETFROM:+0000
TZOFFSETTO:+0100
TZNAME:WEST
DTSTART:20250330T010000
END:DAYLIGHT
BEGIN:STANDARD
TZOFFSETFROM:+0100
TZOFFSETTO:+0000
TZNAME:WET
DTSTART:20251026T010000
END:STANDARD
BEGIN:DAYLIGHT
TZOFFSETFROM:+0000
TZOFFSETTO:+0100
TZNAME:WEST
DTSTART:20260329T010000
END:DAYLIGHT
BEGIN:STANDARD
TZOFFSETFROM:+0100
TZOFFSETTO:+0000
TZNAME:WET
DTSTART:20261025T010000
END:STANDARD
BEGIN:DAYLIGHT
TZOFFSETFROM:+0000
TZOFFSETTO:+0100
TZNAME:WEST
DTSTART:20270328T010000
END:DAYLIGHT
BEGIN:STANDARD
TZOFFSETFROM:+0100
TZOFFSETTO:+0000
TZNAME:WET
DTSTART:20271031T010000
END:STANDARD
END:VTIMEZONE
BEGIN:VEVENT
DTSTART;VALUE=DATE:20251122
DTEND;VALUE=DATE:20260801
DTSTAMP:20260421T135840
CREATED:20260124T102715Z
LAST-MODIFIED:20260124T102715Z
UID:10018160-1763769600-1785542399@www.viva-lanzarote.com
SUMMARY:Un viaje mitológico. Juan Brito y la Princesa Ico
DESCRIPTION:Sculptures by Juan Brito Martín (1919–2018)
URL:https://www.viva-lanzarote.com/en/evento/un-viaje-mitologico-juan-brito-y-la-princesa-ico/
LOCATION:Casa Museo El Campesino\, Ctra. Arrecife a Tinajo\, 8\, 35559 Mozaga\, Las Palmas\, Mozaga\, Las Palmas\, 35559\, España
CATEGORIES:Exhibitions
ATTACH;FMTTYPE=image/jpeg:https://www.viva-lanzarote.com/wp-content/uploads/2026/01/EXPOSICIONES.Un-viaje-mitologicoOK.jpg
END:VEVENT
BEGIN:VEVENT
DTSTART;VALUE=DATE:20251210
DTEND;VALUE=DATE:20260701
DTSTAMP:20260421T135840
CREATED:20251213T171629Z
LAST-MODIFIED:20251213T171629Z
UID:10018048-1765324800-1782863999@www.viva-lanzarote.com
SUMMARY:Stella Blue
DESCRIPTION:Bruno Chiarenza and Faleon: painting and ceramics\nOpen every day. By appointment only: 654071130
URL:https://www.viva-lanzarote.com/en/evento/stella-blue/
LOCATION:Casa de Arte Italiana\, C. Tahoyo\, 1\, Máguez\, Las Palmas\, 35541\, España
CATEGORIES:Exhibitions
ATTACH;FMTTYPE=image/jpeg:https://www.viva-lanzarote.com/wp-content/uploads/2025/12/EXPOSICIONES.Stella-Blue.BrunoChiarenza-y-Faleon.jpg
END:VEVENT
BEGIN:VEVENT
DTSTART;VALUE=DATE:20260101
DTEND;VALUE=DATE:20270331
DTSTAMP:20260421T135840
CREATED:20260124T104409Z
LAST-MODIFIED:20260124T104409Z
UID:10018170-1767225600-1806451199@www.viva-lanzarote.com
SUMMARY:(Re)Creat
DESCRIPTION:Creative workshops\, community activities\, charity runs\, festival\nDepartment of Citizen Participation. Teguise Town Hall\nMore information Tel: (0034) 686 374 417
URL:https://www.viva-lanzarote.com/en/evento/recreat/
LOCATION:Centro Civico de Costa Teguise\, Av. del Mar\, Costa Teguise\, Las Palmas\, 35508
CATEGORIES:Workshop
ATTACH;FMTTYPE=image/jpeg:https://www.viva-lanzarote.com/wp-content/uploads/2026/01/TALLERES.ReCreatOK.jpg
END:VEVENT
BEGIN:VEVENT
DTSTART;VALUE=DATE:20260213
DTEND;VALUE=DATE:20261001
DTSTAMP:20260421T135840
CREATED:20260314T120802Z
LAST-MODIFIED:20260314T120802Z
UID:10018317-1770940800-1790812799@www.viva-lanzarote.com
SUMMARY:Corazones ardientes
DESCRIPTION:Christian Honerkamp
URL:https://www.viva-lanzarote.com/en/evento/corazones-ardientes/
LOCATION:Café Romeo y Julieta (Teguise)\, C. Nueva\, 4\, Teguise\, Las Palmas\, 35530
CATEGORIES:Exhibitions
ATTACH;FMTTYPE=image/jpeg:https://www.viva-lanzarote.com/wp-content/uploads/2026/03/EXPOSICIONES.Corazones-ardientes.jpg
END:VEVENT
BEGIN:VEVENT
DTSTART;VALUE=DATE:20260328
DTEND;VALUE=DATE:20260802
DTSTAMP:20260421T135840
CREATED:20260314T122106Z
LAST-MODIFIED:20260314T122106Z
UID:10018325-1774656000-1785628799@www.viva-lanzarote.com
SUMMARY:La profundidad del silencio
DESCRIPTION:Ildefonso Aguilar
URL:https://www.viva-lanzarote.com/en/evento/la-profundidad-del-silencio/
LOCATION:Casa de la Cultura Agustín de la Hoz\, Avenida la Marina\, 7\, Arrecife\, Las Palmas\, 35500\, España
CATEGORIES:Exhibitions
ATTACH;FMTTYPE=image/jpeg:https://www.viva-lanzarote.com/wp-content/uploads/2026/03/EXPOSICIONES.La-profundidad-del-silencio.Ildefonso_Aguilar.jpg
END:VEVENT
BEGIN:VEVENT
DTSTART;TZID=Atlantic/Canary:20260705T090000
DTEND;TZID=Atlantic/Canary:20260705T140000
DTSTAMP:20260421T135840
CREATED:20220916T101150Z
LAST-MODIFIED:20220916T102434Z
UID:10015256-1783242000-1783260000@www.viva-lanzarote.com
SUMMARY:Carboot sale - Lanzarote a caballo
DESCRIPTION:Organised by P.A.L.S.\, the charity who helps people in need and animals.
URL:https://www.viva-lanzarote.com/en/evento/carboot-sale-lanzarote-a-caballo/2026-07-05/
LOCATION:Lanzarote a Caballo\, Carretera de Arrecife A Yaiza\, Km 17\, Uga\, Las Palmas\, 35570\, España
CATEGORIES:Street markets
ATTACH;FMTTYPE=image/jpeg:https://www.viva-lanzarote.com/wp-content/uploads/2022/09/CARBOOT-SALE-LANZAROTE-A-CABALLO-OK.jpg
GEO:28.937567571185;-13.727344573365
X-APPLE-STRUCTURED-LOCATION;VALUE=URI;X-ADDRESS=Lanzarote a Caballo Carretera de Arrecife A Yaiza Km 17 Uga Las Palmas 35570 España;X-APPLE-RADIUS=500;X-TITLE=Carretera de Arrecife A Yaiza\, Km 17:geo:-13.727344573365,28.937567571185
END:VEVENT
BEGIN:VEVENT
DTSTART;VALUE=DATE:20260711
DTEND;VALUE=DATE:20260713
DTSTAMP:20260421T135840
CREATED:20260124T120858Z
LAST-MODIFIED:20260124T120858Z
UID:10018198-1783728000-1783900799@www.viva-lanzarote.com
SUMMARY:Lanzarote Summer Challenge 2026
DESCRIPTION:International CrossFit Championship
URL:https://www.viva-lanzarote.com/en/evento/lanzarote-summer-challenge-2026/
LOCATION:Playa del Reducto\, Playa del Reducto\, Arrecife\, Las Palmas\, 35500\, España
CATEGORIES:Sports
ATTACH;FMTTYPE=image/jpeg:https://www.viva-lanzarote.com/wp-content/uploads/2026/01/DEPORTES.Lanzarote-Summer-Challenge-2026-OK.jpg
END:VEVENT
BEGIN:VEVENT
DTSTART;TZID=Atlantic/Canary:20260712T090000
DTEND;TZID=Atlantic/Canary:20260712T140000
DTSTAMP:20260421T135840
CREATED:20220916T101150Z
LAST-MODIFIED:20220916T102434Z
UID:10015257-1783846800-1783864800@www.viva-lanzarote.com
SUMMARY:Carboot sale - Lanzarote a caballo
DESCRIPTION:Organised by P.A.L.S.\, the charity who helps people in need and animals.
URL:https://www.viva-lanzarote.com/en/evento/carboot-sale-lanzarote-a-caballo/2026-07-12/
LOCATION:Lanzarote a Caballo\, Carretera de Arrecife A Yaiza\, Km 17\, Uga\, Las Palmas\, 35570\, España
CATEGORIES:Street markets
ATTACH;FMTTYPE=image/jpeg:https://www.viva-lanzarote.com/wp-content/uploads/2022/09/CARBOOT-SALE-LANZAROTE-A-CABALLO-OK.jpg
GEO:28.937567571185;-13.727344573365
X-APPLE-STRUCTURED-LOCATION;VALUE=URI;X-ADDRESS=Lanzarote a Caballo Carretera de Arrecife A Yaiza Km 17 Uga Las Palmas 35570 España;X-APPLE-RADIUS=500;X-TITLE=Carretera de Arrecife A Yaiza\, Km 17:geo:-13.727344573365,28.937567571185
END:VEVENT
BEGIN:VEVENT
DTSTART;TZID=Atlantic/Canary:20260719T090000
DTEND;TZID=Atlantic/Canary:20260719T140000
DTSTAMP:20260421T135840
CREATED:20220916T101150Z
LAST-MODIFIED:20220916T102434Z
UID:10015258-1784451600-1784469600@www.viva-lanzarote.com
SUMMARY:Carboot sale - Lanzarote a caballo
DESCRIPTION:Organised by P.A.L.S.\, the charity who helps people in need and animals.
URL:https://www.viva-lanzarote.com/en/evento/carboot-sale-lanzarote-a-caballo/2026-07-19/
LOCATION:Lanzarote a Caballo\, Carretera de Arrecife A Yaiza\, Km 17\, Uga\, Las Palmas\, 35570\, España
CATEGORIES:Street markets
ATTACH;FMTTYPE=image/jpeg:https://www.viva-lanzarote.com/wp-content/uploads/2022/09/CARBOOT-SALE-LANZAROTE-A-CABALLO-OK.jpg
GEO:28.937567571185;-13.727344573365
X-APPLE-STRUCTURED-LOCATION;VALUE=URI;X-ADDRESS=Lanzarote a Caballo Carretera de Arrecife A Yaiza Km 17 Uga Las Palmas 35570 España;X-APPLE-RADIUS=500;X-TITLE=Carretera de Arrecife A Yaiza\, Km 17:geo:-13.727344573365,28.937567571185
END:VEVENT
BEGIN:VEVENT
DTSTART;TZID=Atlantic/Canary:20260726T090000
DTEND;TZID=Atlantic/Canary:20260726T140000
DTSTAMP:20260421T135840
CREATED:20220916T101150Z
LAST-MODIFIED:20220916T102434Z
UID:10015259-1785056400-1785074400@www.viva-lanzarote.com
SUMMARY:Carboot sale - Lanzarote a caballo
DESCRIPTION:Organised by P.A.L.S.\, the charity who helps people in need and animals.
URL:https://www.viva-lanzarote.com/en/evento/carboot-sale-lanzarote-a-caballo/2026-07-26/
LOCATION:Lanzarote a Caballo\, Carretera de Arrecife A Yaiza\, Km 17\, Uga\, Las Palmas\, 35570\, España
CATEGORIES:Street markets
ATTACH;FMTTYPE=image/jpeg:https://www.viva-lanzarote.com/wp-content/uploads/2022/09/CARBOOT-SALE-LANZAROTE-A-CABALLO-OK.jpg
GEO:28.937567571185;-13.727344573365
X-APPLE-STRUCTURED-LOCATION;VALUE=URI;X-ADDRESS=Lanzarote a Caballo Carretera de Arrecife A Yaiza Km 17 Uga Las Palmas 35570 España;X-APPLE-RADIUS=500;X-TITLE=Carretera de Arrecife A Yaiza\, Km 17:geo:-13.727344573365,28.937567571185
END:VEVENT
BEGIN:VEVENT
DTSTART;TZID=Atlantic/Canary:20260802T090000
DTEND;TZID=Atlantic/Canary:20260802T140000
DTSTAMP:20260421T135840
CREATED:20220916T101150Z
LAST-MODIFIED:20220916T102434Z
UID:10015260-1785661200-1785679200@www.viva-lanzarote.com
SUMMARY:Carboot sale - Lanzarote a caballo
DESCRIPTION:Organised by P.A.L.S.\, the charity who helps people in need and animals.
URL:https://www.viva-lanzarote.com/en/evento/carboot-sale-lanzarote-a-caballo/2026-08-02/
LOCATION:Lanzarote a Caballo\, Carretera de Arrecife A Yaiza\, Km 17\, Uga\, Las Palmas\, 35570\, España
CATEGORIES:Street markets
ATTACH;FMTTYPE=image/jpeg:https://www.viva-lanzarote.com/wp-content/uploads/2022/09/CARBOOT-SALE-LANZAROTE-A-CABALLO-OK.jpg
GEO:28.937567571185;-13.727344573365
X-APPLE-STRUCTURED-LOCATION;VALUE=URI;X-ADDRESS=Lanzarote a Caballo Carretera de Arrecife A Yaiza Km 17 Uga Las Palmas 35570 España;X-APPLE-RADIUS=500;X-TITLE=Carretera de Arrecife A Yaiza\, Km 17:geo:-13.727344573365,28.937567571185
END:VEVENT
BEGIN:VEVENT
DTSTART;TZID=Atlantic/Canary:20260808T203000
DTEND;TZID=Atlantic/Canary:20260808T203000
DTSTAMP:20260421T135840
CREATED:20260314T105311Z
LAST-MODIFIED:20260314T105311Z
UID:10018305-1786221000-1786221000@www.viva-lanzarote.com
SUMMARY:Evolucionando
DESCRIPTION:Darío López
URL:https://www.viva-lanzarote.com/en/evento/evolucionando/
LOCATION:Teatro Municipal de Tias\, C. San Antonio\, 4\, Tías\, Las Palmas\, 35572\, España
CATEGORIES:Humor,Theatre
ATTACH;FMTTYPE=image/jpeg:https://www.viva-lanzarote.com/wp-content/uploads/2026/03/TEATRO.Evolucionando.DarioLopez.jpg
END:VEVENT
BEGIN:VEVENT
DTSTART;TZID=Atlantic/Canary:20260809T090000
DTEND;TZID=Atlantic/Canary:20260809T140000
DTSTAMP:20260421T135840
CREATED:20220916T101150Z
LAST-MODIFIED:20220916T102434Z
UID:10015261-1786266000-1786284000@www.viva-lanzarote.com
SUMMARY:Carboot sale - Lanzarote a caballo
DESCRIPTION:Organised by P.A.L.S.\, the charity who helps people in need and animals.
URL:https://www.viva-lanzarote.com/en/evento/carboot-sale-lanzarote-a-caballo/2026-08-09/
LOCATION:Lanzarote a Caballo\, Carretera de Arrecife A Yaiza\, Km 17\, Uga\, Las Palmas\, 35570\, España
CATEGORIES:Street markets
ATTACH;FMTTYPE=image/jpeg:https://www.viva-lanzarote.com/wp-content/uploads/2022/09/CARBOOT-SALE-LANZAROTE-A-CABALLO-OK.jpg
GEO:28.937567571185;-13.727344573365
X-APPLE-STRUCTURED-LOCATION;VALUE=URI;X-ADDRESS=Lanzarote a Caballo Carretera de Arrecife A Yaiza Km 17 Uga Las Palmas 35570 España;X-APPLE-RADIUS=500;X-TITLE=Carretera de Arrecife A Yaiza\, Km 17:geo:-13.727344573365,28.937567571185
END:VEVENT
BEGIN:VEVENT
DTSTART;VALUE=DATE:20260813
DTEND;VALUE=DATE:20260816
DTSTAMP:20260421T135840
CREATED:20260124T121125Z
LAST-MODIFIED:20260124T121125Z
UID:10018200-1786579200-1786838399@www.viva-lanzarote.com
SUMMARY:Famara Total Race 2026
DESCRIPTION:Carrera trail: 7\,5 km – 15 km – 25 km – 45 km – Vertical nocturna (6\,5 km / 600 m desnivel)
URL:https://www.viva-lanzarote.com/en/evento/famara-total-race-2026/
LOCATION:Muelle de Caleta de Famara\, Av. las Bajas\, Caleta de Famara\, Las Palmas\, 35558
CATEGORIES:Sports
ATTACH;FMTTYPE=image/jpeg:https://www.viva-lanzarote.com/wp-content/uploads/2026/01/DEPORTES.Famara-Total-RaceOK.jpg
END:VEVENT
BEGIN:VEVENT
DTSTART;TZID=Atlantic/Canary:20260816T090000
DTEND;TZID=Atlantic/Canary:20260816T140000
DTSTAMP:20260421T135840
CREATED:20220916T101150Z
LAST-MODIFIED:20220916T102434Z
UID:10015262-1786870800-1786888800@www.viva-lanzarote.com
SUMMARY:Carboot sale - Lanzarote a caballo
DESCRIPTION:Organised by P.A.L.S.\, the charity who helps people in need and animals.
URL:https://www.viva-lanzarote.com/en/evento/carboot-sale-lanzarote-a-caballo/2026-08-16/
LOCATION:Lanzarote a Caballo\, Carretera de Arrecife A Yaiza\, Km 17\, Uga\, Las Palmas\, 35570\, España
CATEGORIES:Street markets
ATTACH;FMTTYPE=image/jpeg:https://www.viva-lanzarote.com/wp-content/uploads/2022/09/CARBOOT-SALE-LANZAROTE-A-CABALLO-OK.jpg
GEO:28.937567571185;-13.727344573365
X-APPLE-STRUCTURED-LOCATION;VALUE=URI;X-ADDRESS=Lanzarote a Caballo Carretera de Arrecife A Yaiza Km 17 Uga Las Palmas 35570 España;X-APPLE-RADIUS=500;X-TITLE=Carretera de Arrecife A Yaiza\, Km 17:geo:-13.727344573365,28.937567571185
END:VEVENT
BEGIN:VEVENT
DTSTART;TZID=Atlantic/Canary:20260823T090000
DTEND;TZID=Atlantic/Canary:20260823T140000
DTSTAMP:20260421T135840
CREATED:20220916T101150Z
LAST-MODIFIED:20220916T102434Z
UID:10015263-1787475600-1787493600@www.viva-lanzarote.com
SUMMARY:Carboot sale - Lanzarote a caballo
DESCRIPTION:Organised by P.A.L.S.\, the charity who helps people in need and animals.
URL:https://www.viva-lanzarote.com/en/evento/carboot-sale-lanzarote-a-caballo/2026-08-23/
LOCATION:Lanzarote a Caballo\, Carretera de Arrecife A Yaiza\, Km 17\, Uga\, Las Palmas\, 35570\, España
CATEGORIES:Street markets
ATTACH;FMTTYPE=image/jpeg:https://www.viva-lanzarote.com/wp-content/uploads/2022/09/CARBOOT-SALE-LANZAROTE-A-CABALLO-OK.jpg
GEO:28.937567571185;-13.727344573365
X-APPLE-STRUCTURED-LOCATION;VALUE=URI;X-ADDRESS=Lanzarote a Caballo Carretera de Arrecife A Yaiza Km 17 Uga Las Palmas 35570 España;X-APPLE-RADIUS=500;X-TITLE=Carretera de Arrecife A Yaiza\, Km 17:geo:-13.727344573365,28.937567571185
END:VEVENT
BEGIN:VEVENT
DTSTART;TZID=Atlantic/Canary:20260830T090000
DTEND;TZID=Atlantic/Canary:20260830T140000
DTSTAMP:20260421T135840
CREATED:20220916T101150Z
LAST-MODIFIED:20220916T102434Z
UID:10015264-1788080400-1788098400@www.viva-lanzarote.com
SUMMARY:Carboot sale - Lanzarote a caballo
DESCRIPTION:Organised by P.A.L.S.\, the charity who helps people in need and animals.
URL:https://www.viva-lanzarote.com/en/evento/carboot-sale-lanzarote-a-caballo/2026-08-30/
LOCATION:Lanzarote a Caballo\, Carretera de Arrecife A Yaiza\, Km 17\, Uga\, Las Palmas\, 35570\, España
CATEGORIES:Street markets
ATTACH;FMTTYPE=image/jpeg:https://www.viva-lanzarote.com/wp-content/uploads/2022/09/CARBOOT-SALE-LANZAROTE-A-CABALLO-OK.jpg
GEO:28.937567571185;-13.727344573365
X-APPLE-STRUCTURED-LOCATION;VALUE=URI;X-ADDRESS=Lanzarote a Caballo Carretera de Arrecife A Yaiza Km 17 Uga Las Palmas 35570 España;X-APPLE-RADIUS=500;X-TITLE=Carretera de Arrecife A Yaiza\, Km 17:geo:-13.727344573365,28.937567571185
END:VEVENT
BEGIN:VEVENT
DTSTART;VALUE=DATE:20260903
DTEND;VALUE=DATE:20260907
DTSTAMP:20260421T135840
CREATED:20260124T121459Z
LAST-MODIFIED:20260124T121459Z
UID:10018202-1788393600-1788739199@www.viva-lanzarote.com
SUMMARY:4 Stage Mountain Bike Race Lanzarote 2026
DESCRIPTION:MTB. Includes an official UCI XCMS S1 race (3rd stage)
URL:https://www.viva-lanzarote.com/en/evento/4-stage-mountain-bike-race-lanzarote-2026/
LOCATION:Club La Santa\, Avenida Krogager\, s/n\, Tinajo\, Las Palmas\, 35560\, España
CATEGORIES:Sports
ATTACH;FMTTYPE=image/jpeg:https://www.viva-lanzarote.com/wp-content/uploads/2026/01/DEPORTES.4-Stage-Mountain-Bike-Race-LanzaroteOK.jpg
END:VEVENT
BEGIN:VEVENT
DTSTART;VALUE=DATE:20260904
DTEND;VALUE=DATE:20260907
DTSTAMP:20260421T135840
CREATED:20260124T121811Z
LAST-MODIFIED:20260124T121811Z
UID:10018204-1788480000-1788739199@www.viva-lanzarote.com
SUMMARY:Campeonato de España de Petanca 
DESCRIPTION:Category: Absolute
URL:https://www.viva-lanzarote.com/en/evento/campeonato-de-espana-de-petanca/
LOCATION:Guatiza\, Plaza municipal\, C. Ramírez Cerda\, 11\, Guatiza\, Las Palmas\, 35544\, España
CATEGORIES:Sports
ATTACH;FMTTYPE=image/jpeg:https://www.viva-lanzarote.com/wp-content/uploads/2026/01/DEPORTES.Petanca.Lanzarote-Sara-DiazOK.jpg
END:VEVENT
BEGIN:VEVENT
DTSTART;TZID=Atlantic/Canary:20260906T090000
DTEND;TZID=Atlantic/Canary:20260906T140000
DTSTAMP:20260421T135840
CREATED:20220916T101150Z
LAST-MODIFIED:20220916T102434Z
UID:10015265-1788685200-1788703200@www.viva-lanzarote.com
SUMMARY:Carboot sale - Lanzarote a caballo
DESCRIPTION:Organised by P.A.L.S.\, the charity who helps people in need and animals.
URL:https://www.viva-lanzarote.com/en/evento/carboot-sale-lanzarote-a-caballo/2026-09-06/
LOCATION:Lanzarote a Caballo\, Carretera de Arrecife A Yaiza\, Km 17\, Uga\, Las Palmas\, 35570\, España
CATEGORIES:Street markets
ATTACH;FMTTYPE=image/jpeg:https://www.viva-lanzarote.com/wp-content/uploads/2022/09/CARBOOT-SALE-LANZAROTE-A-CABALLO-OK.jpg
GEO:28.937567571185;-13.727344573365
X-APPLE-STRUCTURED-LOCATION;VALUE=URI;X-ADDRESS=Lanzarote a Caballo Carretera de Arrecife A Yaiza Km 17 Uga Las Palmas 35570 España;X-APPLE-RADIUS=500;X-TITLE=Carretera de Arrecife A Yaiza\, Km 17:geo:-13.727344573365,28.937567571185
END:VEVENT
BEGIN:VEVENT
DTSTART;TZID=Atlantic/Canary:20260913T090000
DTEND;TZID=Atlantic/Canary:20260913T140000
DTSTAMP:20260421T135840
CREATED:20220916T101150Z
LAST-MODIFIED:20220916T102434Z
UID:10015266-1789290000-1789308000@www.viva-lanzarote.com
SUMMARY:Carboot sale - Lanzarote a caballo
DESCRIPTION:Organised by P.A.L.S.\, the charity who helps people in need and animals.
URL:https://www.viva-lanzarote.com/en/evento/carboot-sale-lanzarote-a-caballo/2026-09-13/
LOCATION:Lanzarote a Caballo\, Carretera de Arrecife A Yaiza\, Km 17\, Uga\, Las Palmas\, 35570\, España
CATEGORIES:Street markets
ATTACH;FMTTYPE=image/jpeg:https://www.viva-lanzarote.com/wp-content/uploads/2022/09/CARBOOT-SALE-LANZAROTE-A-CABALLO-OK.jpg
GEO:28.937567571185;-13.727344573365
X-APPLE-STRUCTURED-LOCATION;VALUE=URI;X-ADDRESS=Lanzarote a Caballo Carretera de Arrecife A Yaiza Km 17 Uga Las Palmas 35570 España;X-APPLE-RADIUS=500;X-TITLE=Carretera de Arrecife A Yaiza\, Km 17:geo:-13.727344573365,28.937567571185
END:VEVENT
BEGIN:VEVENT
DTSTART;VALUE=DATE:20260919
DTEND;VALUE=DATE:20260920
DTSTAMP:20260421T135840
CREATED:20260124T122143Z
LAST-MODIFIED:20260124T122143Z
UID:10018206-1789776000-1789862399@www.viva-lanzarote.com
SUMMARY:30ª Travesía a Nado El Río
DESCRIPTION:2.6 km. Time limit: 1 hour\nPlaya Bajo el Risco – (Start from) Caleta de Sebo (La Graciosa)
URL:https://www.viva-lanzarote.com/en/evento/30a-travesia-a-nado-el-rio/
LOCATION:Caleta de Sebo (La Graciosa)\, Av. Virgen del Mar\, 123\, Caleta del Sebo. La Graciosa\, Las Palmas\, 35540\, España
CATEGORIES:Sports
ATTACH;FMTTYPE=image/jpeg:https://www.viva-lanzarote.com/wp-content/uploads/2026/01/DEPORTES.Travesia-a-nado-ElRio2026OK.jpg
END:VEVENT
BEGIN:VEVENT
DTSTART;TZID=Atlantic/Canary:20260920T090000
DTEND;TZID=Atlantic/Canary:20260920T140000
DTSTAMP:20260421T135840
CREATED:20220916T101150Z
LAST-MODIFIED:20220916T102434Z
UID:10015267-1789894800-1789912800@www.viva-lanzarote.com
SUMMARY:Carboot sale - Lanzarote a caballo
DESCRIPTION:Organised by P.A.L.S.\, the charity who helps people in need and animals.
URL:https://www.viva-lanzarote.com/en/evento/carboot-sale-lanzarote-a-caballo/2026-09-20/
LOCATION:Lanzarote a Caballo\, Carretera de Arrecife A Yaiza\, Km 17\, Uga\, Las Palmas\, 35570\, España
CATEGORIES:Street markets
ATTACH;FMTTYPE=image/jpeg:https://www.viva-lanzarote.com/wp-content/uploads/2022/09/CARBOOT-SALE-LANZAROTE-A-CABALLO-OK.jpg
GEO:28.937567571185;-13.727344573365
X-APPLE-STRUCTURED-LOCATION;VALUE=URI;X-ADDRESS=Lanzarote a Caballo Carretera de Arrecife A Yaiza Km 17 Uga Las Palmas 35570 España;X-APPLE-RADIUS=500;X-TITLE=Carretera de Arrecife A Yaiza\, Km 17:geo:-13.727344573365,28.937567571185
END:VEVENT
BEGIN:VEVENT
DTSTART;TZID=Atlantic/Canary:20260925T200000
DTEND;TZID=Atlantic/Canary:20260925T200000
DTSTAMP:20260421T135840
CREATED:20260314T084149Z
LAST-MODIFIED:20260314T084149Z
UID:10018263-1790366400-1790366400@www.viva-lanzarote.com
SUMMARY:América entre nosotros
DESCRIPTION:Verónica Lucía + Javier Infante y Alexis Lemes
URL:https://www.viva-lanzarote.com/en/evento/america-entre-nosotros/
LOCATION:CASA MUSEO DEL TIMPLE (TEGUISE)\, Calle Plaza de la Constitución\,1\, TEGUISE\, Las Palmas\, 35530\, España
CATEGORIES:Music
ATTACH;FMTTYPE=image/jpeg:https://www.viva-lanzarote.com/wp-content/uploads/2026/03/MUSICA.America-entre-nosotros.jpg
END:VEVENT
BEGIN:VEVENT
DTSTART;TZID=Atlantic/Canary:20260927T090000
DTEND;TZID=Atlantic/Canary:20260927T140000
DTSTAMP:20260421T135840
CREATED:20220916T101150Z
LAST-MODIFIED:20220916T102434Z
UID:10015268-1790499600-1790517600@www.viva-lanzarote.com
SUMMARY:Carboot sale - Lanzarote a caballo
DESCRIPTION:Organised by P.A.L.S.\, the charity who helps people in need and animals.
URL:https://www.viva-lanzarote.com/en/evento/carboot-sale-lanzarote-a-caballo/2026-09-27/
LOCATION:Lanzarote a Caballo\, Carretera de Arrecife A Yaiza\, Km 17\, Uga\, Las Palmas\, 35570\, España
CATEGORIES:Street markets
ATTACH;FMTTYPE=image/jpeg:https://www.viva-lanzarote.com/wp-content/uploads/2022/09/CARBOOT-SALE-LANZAROTE-A-CABALLO-OK.jpg
GEO:28.937567571185;-13.727344573365
X-APPLE-STRUCTURED-LOCATION;VALUE=URI;X-ADDRESS=Lanzarote a Caballo Carretera de Arrecife A Yaiza Km 17 Uga Las Palmas 35570 España;X-APPLE-RADIUS=500;X-TITLE=Carretera de Arrecife A Yaiza\, Km 17:geo:-13.727344573365,28.937567571185
END:VEVENT
BEGIN:VEVENT
DTSTART;TZID=Atlantic/Canary:20261004T090000
DTEND;TZID=Atlantic/Canary:20261004T140000
DTSTAMP:20260421T135840
CREATED:20220916T101150Z
LAST-MODIFIED:20220916T102434Z
UID:10015269-1791104400-1791122400@www.viva-lanzarote.com
SUMMARY:Carboot sale - Lanzarote a caballo
DESCRIPTION:Organised by P.A.L.S.\, the charity who helps people in need and animals.
URL:https://www.viva-lanzarote.com/en/evento/carboot-sale-lanzarote-a-caballo/2026-10-04/
LOCATION:Lanzarote a Caballo\, Carretera de Arrecife A Yaiza\, Km 17\, Uga\, Las Palmas\, 35570\, España
CATEGORIES:Street markets
ATTACH;FMTTYPE=image/jpeg:https://www.viva-lanzarote.com/wp-content/uploads/2022/09/CARBOOT-SALE-LANZAROTE-A-CABALLO-OK.jpg
GEO:28.937567571185;-13.727344573365
X-APPLE-STRUCTURED-LOCATION;VALUE=URI;X-ADDRESS=Lanzarote a Caballo Carretera de Arrecife A Yaiza Km 17 Uga Las Palmas 35570 España;X-APPLE-RADIUS=500;X-TITLE=Carretera de Arrecife A Yaiza\, Km 17:geo:-13.727344573365,28.937567571185
END:VEVENT
BEGIN:VEVENT
DTSTART;TZID=Atlantic/Canary:20261011T090000
DTEND;TZID=Atlantic/Canary:20261011T140000
DTSTAMP:20260421T135840
CREATED:20220916T101150Z
LAST-MODIFIED:20220916T102434Z
UID:10015270-1791709200-1791727200@www.viva-lanzarote.com
SUMMARY:Carboot sale - Lanzarote a caballo
DESCRIPTION:Organised by P.A.L.S.\, the charity who helps people in need and animals.
URL:https://www.viva-lanzarote.com/en/evento/carboot-sale-lanzarote-a-caballo/2026-10-11/
LOCATION:Lanzarote a Caballo\, Carretera de Arrecife A Yaiza\, Km 17\, Uga\, Las Palmas\, 35570\, España
CATEGORIES:Street markets
ATTACH;FMTTYPE=image/jpeg:https://www.viva-lanzarote.com/wp-content/uploads/2022/09/CARBOOT-SALE-LANZAROTE-A-CABALLO-OK.jpg
GEO:28.937567571185;-13.727344573365
X-APPLE-STRUCTURED-LOCATION;VALUE=URI;X-ADDRESS=Lanzarote a Caballo Carretera de Arrecife A Yaiza Km 17 Uga Las Palmas 35570 España;X-APPLE-RADIUS=500;X-TITLE=Carretera de Arrecife A Yaiza\, Km 17:geo:-13.727344573365,28.937567571185
END:VEVENT
BEGIN:VEVENT
DTSTART;VALUE=DATE:20261012
DTEND;VALUE=DATE:20261014
DTSTAMP:20260421T135840
CREATED:20260124T122359Z
LAST-MODIFIED:20260124T122359Z
UID:10018208-1791763200-1791935999@www.viva-lanzarote.com
SUMMARY:Lanzarote Bestial Race K10 Extreme
DESCRIPTION:OCR Obstacle Course. Wave starts.\nCategories: Elite – Starter – T-Rex (pairs/teams) – Hell (10 km) – 3K Fun (3 km)
URL:https://www.viva-lanzarote.com/en/evento/lanzarote-bestial-race-k10-extreme/
LOCATION:Plaza de la Alameda\, Plaza Alameda\, Yaiza\, Las Palmas\, 35570\, España
CATEGORIES:Sports
ATTACH;FMTTYPE=image/jpeg:https://www.viva-lanzarote.com/wp-content/uploads/2026/01/DEPORTES.Bestial-Race-Yaiza.OK_.jpg
END:VEVENT
BEGIN:VEVENT
DTSTART;TZID=Atlantic/Canary:20261018T090000
DTEND;TZID=Atlantic/Canary:20261018T140000
DTSTAMP:20260421T135840
CREATED:20220916T101150Z
LAST-MODIFIED:20220916T102434Z
UID:10015271-1792314000-1792332000@www.viva-lanzarote.com
SUMMARY:Carboot sale - Lanzarote a caballo
DESCRIPTION:Organised by P.A.L.S.\, the charity who helps people in need and animals.
URL:https://www.viva-lanzarote.com/en/evento/carboot-sale-lanzarote-a-caballo/2026-10-18/
LOCATION:Lanzarote a Caballo\, Carretera de Arrecife A Yaiza\, Km 17\, Uga\, Las Palmas\, 35570\, España
CATEGORIES:Street markets
ATTACH;FMTTYPE=image/jpeg:https://www.viva-lanzarote.com/wp-content/uploads/2022/09/CARBOOT-SALE-LANZAROTE-A-CABALLO-OK.jpg
GEO:28.937567571185;-13.727344573365
X-APPLE-STRUCTURED-LOCATION;VALUE=URI;X-ADDRESS=Lanzarote a Caballo Carretera de Arrecife A Yaiza Km 17 Uga Las Palmas 35570 España;X-APPLE-RADIUS=500;X-TITLE=Carretera de Arrecife A Yaiza\, Km 17:geo:-13.727344573365,28.937567571185
END:VEVENT
BEGIN:VEVENT
DTSTART;TZID=Atlantic/Canary:20261023T200000
DTEND;TZID=Atlantic/Canary:20261023T200000
DTSTAMP:20260421T135840
CREATED:20260314T084408Z
LAST-MODIFIED:20260314T084408Z
UID:10018265-1792785600-1792785600@www.viva-lanzarote.com
SUMMARY:Olga Cerpa y Mestisay
DESCRIPTION:
URL:https://www.viva-lanzarote.com/en/evento/olga-cerpa-y-mestisay/
LOCATION:Convento de Santo Domingo\, C. Guatatiboa\, 11\, Teguise\, Las Palmas\, 35530\, España
CATEGORIES:Music
ATTACH;FMTTYPE=image/jpeg:https://www.viva-lanzarote.com/wp-content/uploads/2026/03/MUSICA.Olga-Cerpa-y-Mestisay.jpg
END:VEVENT
END:VCALENDAR