BEGIN:VCALENDAR
VERSION:2.0
PRODID:-//Viva Lanzarote - ECPv6.10.3//NONSGML v1.0//EN
CALSCALE:GREGORIAN
METHOD:PUBLISH
X-WR-CALNAME:Viva Lanzarote
X-ORIGINAL-URL:https://www.viva-lanzarote.com/en/
X-WR-CALDESC:Events for Viva Lanzarote
REFRESH-INTERVAL;VALUE=DURATION:PT1H
X-Robots-Tag:noindex
X-PUBLISHED-TTL:PT1H
BEGIN:VTIMEZONE
TZID:Atlantic/Canary
BEGIN:DAYLIGHT
TZOFFSETFROM:+0000
TZOFFSETTO:+0100
TZNAME:WEST
DTSTART:20260329T010000
END:DAYLIGHT
BEGIN:STANDARD
TZOFFSETFROM:+0100
TZOFFSETTO:+0000
TZNAME:WET
DTSTART:20261025T010000
END:STANDARD
END:VTIMEZONE
BEGIN:VEVENT
DTSTART;TZID=Atlantic/Canary:20260324T203000
DTEND;TZID=Atlantic/Canary:20260324T203000
DTSTAMP:20260422T112833
CREATED:20260314T100814Z
LAST-MODIFIED:20260314T100814Z
UID:10018285-1774384200-1774384200@www.viva-lanzarote.com
SUMMARY:La función que sale mal
DESCRIPTION:Directed by: Germán Barrios\nProduction: Ajei Theatre Group\n18th Theatre Cultural Week
URL:https://www.viva-lanzarote.com/en/evento/la-funcion-que-sale-mal/
LOCATION:San Bartolomé Municipal Theatre\, Pl. León y Castillo\, 7\, San Bartolomé\, Las Palmas\, 35559\, España
CATEGORIES:Theatre
ATTACH;FMTTYPE=image/jpeg:https://www.viva-lanzarote.com/wp-content/uploads/2026/03/TEATRO.la-funcion-que-sale-mal.S.Bartolome.jpg
END:VEVENT
BEGIN:VEVENT
DTSTART;TZID=Atlantic/Canary:20260324T200000
DTEND;TZID=Atlantic/Canary:20260324T200000
DTSTAMP:20260422T112833
CREATED:20260314T080543Z
LAST-MODIFIED:20260314T080543Z
UID:10018235-1774382400-1774382400@www.viva-lanzarote.com
SUMMARY:Ángel Luis Quintana Trío
DESCRIPTION:X Ciclo Conciertos Clásicos de Arrecife
URL:https://www.viva-lanzarote.com/en/evento/angel-luis-quintana-trio/
LOCATION:Casa de la Cultura Agustín de la Hoz\, Avenida la Marina\, 7\, Arrecife\, Las Palmas\, 35500\, España
CATEGORIES:Music
ATTACH;FMTTYPE=image/jpeg:https://www.viva-lanzarote.com/wp-content/uploads/2026/03/MUSICA.X-Ciclo-Conciertos-clasicos-Arrecife-1.jpg
END:VEVENT
BEGIN:VEVENT
DTSTART;TZID=Atlantic/Canary:20260324T180000
DTEND;TZID=Atlantic/Canary:20260324T180000
DTSTAMP:20260422T112833
CREATED:20260314T124927Z
LAST-MODIFIED:20260314T124927Z
UID:10018333-1774375200-1774375200@www.viva-lanzarote.com
SUMMARY:Los idólatras y todos los que aman
DESCRIPTION:Adriana Murad Konings\nClub de Lectura Verbena
URL:https://www.viva-lanzarote.com/en/evento/los-idolatras-y-todos-los-que-aman/
LOCATION:CIC El Almacén\, José Betancort\, 33\, Arrecife\, Las Palmas\, 35500\, España
CATEGORIES:Chat
ATTACH;FMTTYPE=image/jpeg:https://www.viva-lanzarote.com/wp-content/uploads/2026/03/CHARLAS.Los_idolatras_y_todos_los_que_aman.jpg
END:VEVENT
BEGIN:VEVENT
DTSTART;TZID=Atlantic/Canary:20260322T180000
DTEND;TZID=Atlantic/Canary:20260322T200000
DTSTAMP:20260422T112833
CREATED:20260314T100300Z
LAST-MODIFIED:20260314T100300Z
UID:10018281-1774202400-1774209600@www.viva-lanzarote.com
SUMMARY:HUMOr
DESCRIPTION:Kike Pérez
URL:https://www.viva-lanzarote.com/en/evento/humor/
LOCATION:Teatro Municipal de Tias\, C. San Antonio\, 4\, Tías\, Las Palmas\, 35572\, España
CATEGORIES:Humor,Theatre
ATTACH;FMTTYPE=image/jpeg:https://www.viva-lanzarote.com/wp-content/uploads/2026/03/TEATRO.HUMOr_.Kike-Perez.jpg
END:VEVENT
BEGIN:VEVENT
DTSTART;TZID=Atlantic/Canary:20260322T130000
DTEND;TZID=Atlantic/Canary:20260322T130000
DTSTAMP:20260422T112833
CREATED:20260314T080336Z
LAST-MODIFIED:20260314T080336Z
UID:10018233-1774184400-1774184400@www.viva-lanzarote.com
SUMMARY:Sarria
DESCRIPTION:Sonidos Líquidos
URL:https://www.viva-lanzarote.com/en/evento/sarria/
LOCATION:Casa Museo El Campesino\, Ctra. Arrecife a Tinajo\, 8\, 35559 Mozaga\, Las Palmas\, Mozaga\, Las Palmas\, 35559\, España
CATEGORIES:Music
ATTACH;FMTTYPE=image/jpeg:https://www.viva-lanzarote.com/wp-content/uploads/2026/03/MUSICA.Sonidos-Liquidos-Festival.jpg
END:VEVENT
BEGIN:VEVENT
DTSTART;TZID=Atlantic/Canary:20260322T090000
DTEND;TZID=Atlantic/Canary:20260322T140000
DTSTAMP:20260422T112833
CREATED:20220916T101150Z
LAST-MODIFIED:20220916T102434Z
UID:10015241-1774170000-1774188000@www.viva-lanzarote.com
SUMMARY:Carboot sale - Lanzarote a caballo
DESCRIPTION:Organised by P.A.L.S.\, the charity who helps people in need and animals.
URL:https://www.viva-lanzarote.com/en/evento/carboot-sale-lanzarote-a-caballo/2026-03-22/
LOCATION:Lanzarote a Caballo\, Carretera de Arrecife A Yaiza\, Km 17\, Uga\, Las Palmas\, 35570\, España
CATEGORIES:Street markets
ATTACH;FMTTYPE=image/jpeg:https://www.viva-lanzarote.com/wp-content/uploads/2022/09/CARBOOT-SALE-LANZAROTE-A-CABALLO-OK.jpg
GEO:28.937567571185;-13.727344573365
X-APPLE-STRUCTURED-LOCATION;VALUE=URI;X-ADDRESS=Lanzarote a Caballo Carretera de Arrecife A Yaiza Km 17 Uga Las Palmas 35570 España;X-APPLE-RADIUS=500;X-TITLE=Carretera de Arrecife A Yaiza\, Km 17:geo:-13.727344573365,28.937567571185
END:VEVENT
BEGIN:VEVENT
DTSTART;VALUE=DATE:20260216
DTEND;VALUE=DATE:20260323
DTSTAMP:20260422T112833
CREATED:20260124T110251Z
LAST-MODIFIED:20260124T110251Z
UID:10018178-1771200000-1774223999@www.viva-lanzarote.com
SUMMARY:FIP Promises Unomás Lanzarote I
DESCRIPTION:World Circuit of the International Padel Federation\nCategories: Male and female Under-14\, Under-16 and Under-18.
URL:https://www.viva-lanzarote.com/en/evento/fip-promises-unomas-lanzarote-i/
LOCATION:Las Palmas
CATEGORIES:Sports
ATTACH;FMTTYPE=image/jpeg:https://www.viva-lanzarote.com/wp-content/uploads/2026/01/DEPORTES.UNOmas-PadelOK.jpg
END:VEVENT
END:VCALENDAR